BEGIN:VCALENDAR
VERSION:2.0
METHOD:PUBLISH
PRODID:-//CLC//v1.0//EN
X-WR-TIMEZONE:US/Pacific
CALSCALE:GREGORIAN
BEGIN:VEVENT
UID:-event-447
DTSTAMP:20260119T133000
DTSTART:20260119T133000
DTEND:20260119T160000
SUMMARY: Event MLK day of service at Salmon Creek Ravine
LOCATION:Salmon Creek Ravine
ORGANIZER;CN=Victoria Love
CATEGORIES:Work Party
CLASS:PUBLIC
CONTACT:victoria.love@kingcd.org
END:VEVENT
END:VCALENDAR
